BEGIN:VCALENDAR
VERSION:2.0
PRODID:-//Zurko Promotions - ECPv6.15.20//NONSGML v1.0//EN
CALSCALE:GREGORIAN
METHOD:PUBLISH
X-ORIGINAL-URL:https://zurkopromotions.com
X-WR-CALDESC:Events for Zurko Promotions
REFRESH-INTERVAL;VALUE=DURATION:PT1H
X-Robots-Tag:noindex
X-PUBLISHED-TTL:PT1H
BEGIN:VTIMEZONE
TZID:America/Chicago
BEGIN:DAYLIGHT
TZOFFSETFROM:-0600
TZOFFSETTO:-0500
TZNAME:CDT
DTSTART:20240310T080000
END:DAYLIGHT
BEGIN:STANDARD
TZOFFSETFROM:-0500
TZOFFSETTO:-0600
TZNAME:CST
DTSTART:20241103T070000
END:STANDARD
BEGIN:DAYLIGHT
TZOFFSETFROM:-0600
TZOFFSETTO:-0500
TZNAME:CDT
DTSTART:20250309T080000
END:DAYLIGHT
BEGIN:STANDARD
TZOFFSETFROM:-0500
TZOFFSETTO:-0600
TZNAME:CST
DTSTART:20251102T070000
END:STANDARD
BEGIN:DAYLIGHT
TZOFFSETFROM:-0600
TZOFFSETTO:-0500
TZNAME:CDT
DTSTART:20260308T080000
END:DAYLIGHT
BEGIN:STANDARD
TZOFFSETFROM:-0500
TZOFFSETTO:-0600
TZNAME:CST
DTSTART:20261101T070000
END:STANDARD
BEGIN:DAYLIGHT
TZOFFSETFROM:-0600
TZOFFSETTO:-0500
TZNAME:CDT
DTSTART:20270314T080000
END:DAYLIGHT
BEGIN:STANDARD
TZOFFSETFROM:-0500
TZOFFSETTO:-0600
TZNAME:CST
DTSTART:20271107T070000
END:STANDARD
END:VTIMEZONE
BEGIN:VEVENT
DTSTART;TZID=America/Chicago:20260404T080000
DTEND;TZID=America/Chicago:20260404T170000
DTSTAMP:20260424T150833
CREATED:20260114T203837Z
LAST-MODIFIED:20260401T212554Z
UID:10000479-1775289600-1775322000@zurkopromotions.com
SUMMARY:2026 Collectorabilia Con at the Resch Expo
DESCRIPTION:Collectorabilia Con Saturday April 4\, 2026 & November 28\, 2026.\n\nThis is truly a one of a kind family fun event at the Resch Expo!\n\nYou may find retro games\, consoles\, toys\, action figures\, comics\, graphic novels\, art\, craft\, Lego\, bartop arcades\, modern collectables\, funko pops\, t-shirts\, wrestling merchandise\, Pokemon\, Transformers\, japanese imports\, sports memorabilia\, TV/Movie Memorabilia\, antiques and much much more!!\n\nSponsored By:\n\n\n\n\n\nAmerican Antiques and Jewelry\n2545 W. Mason St\nGreen Bay\, WI 54303\nwww.aaandj.com\nStore: 920-498-0111\n\n\n\n\n\n\n\n\n\n\nCollectorabilia Saturday April 4\, 2026 welcomes Charles “The Godfather” Wright!\nCharles Wright\, better known under his ring name The Godfather\, is an American retired professional wrestler. He is best known for his tenure with the World Wrestling Federation throughout the 1990s and early 2000s\, and underwent several gimmick changes; the most notable were Papa Shango\, Kama\, Kama Mustafa\, The Godfather and The Goodfather. \nAmong other accolades\, Wright is a two-time USWA Unified World Heavyweight Champion\, a one-time WWF Intercontinental Champion\, and a one-time WWF World Tag Team Champion (with Bull Buchanan). He headlined Saturday Night’s Main Event XXXI against Bret Hart for the WWF Championship. Wright was inducted into the WWE Hall of Fame on April 2\, 2016\, under the Godfather gimmick. \n\n\n\nCollectorabilia Con Saturday April 4\, 2026 welcomes artist Sam de la Rosa!\n \n      \nSince 1982\, Sam de la Rosa has penciled art/finished art/inked art for Marvel\, DC\, Image\, Disney\, and Dark Horse. His credits include Spider-Man\, Venom\, Carnage\, Black Panther\, The Avengers\, Star Wars\, X-Men and more. At DC Comics he worked on Superman\, Batman\, Green Lantern\, Star Trek\, Firestorm and others. In 1989 he worked on the 1st and 2nd Predator comic books for Dark Horse Comics. Sam’s work on VENOM LETHAL PROTECTOR #1-6 is the main basis for the VENOM MOVIE. The VENOM: Let There Be CARNAGE movie is based on MAXIMUM CARNAGE\, another popular storyline Sam worked on. His Venom Lethal Protector #1 cover has been produced as a Funko PoP! \n \n\n\nCollectorabilia Saturday April 4\, 2026 welcomes Matt Hissem and his DeLorean Time Machine! \nThis is a close home built representation of the DeLorean time machine from the movie Back to the Future part 2. I bought this stock DeLorean from Michigan in 2013 and needed a full frame-off restoration which took 7months. By the spring of 2015 I had completed the time machine conversion with the help of a co-worker that was on the team of guys who restored the original DeLorean time machine from the movie. All the parts on the car represent the parts on the movie car and are to the same scale but are not identical. The whole time machine build is done in a way that is non destructive to the car. No holes were drilled into the car to mount the time machine hardware\, so it can be brought back to stock condition. I had the opportunity in February of 2016 at the Riverside Theater in Milwaukee to meet Christopher Lloyd who played “Doc” in the movie where he signed the passenger sun visor. Over the past few years\, I have been able to update some of the time machine hardware parts to a more movie accurate state. This is daily driver in the summer and gets around all over the state for many car shows and events. \n\n\nNew Vendors Welcome\n\nResch Expo840 Armed Forces DriveAshwaubenon\, WI 54304\n\nSaturday 8am to 5pm / $8. Tickets available at the event. Kids 12 and under free with adult. Free parking.\nCall Zurko Promotions at 715-526-9769 for more information.\n\nhttps://collectorabiliacon.com/\n\n\nDue to circumstances beyond our control\, Brian Knobb’s appearance at Collectorabilia Saturday April 4\, 2026 has been canceled.
URL:https://zurkopromotions.com/event/2026-collectorabilia-con-at-the-resch-expo-2/
LOCATION:Resch Expo\, 840 Armed Forces Dr.\, Green Bay\, WI\, 54304\, United States
CATEGORIES:Collectorabilia Flea Market,Comic Book and Toy Show,Green Bay Wisconsin Indoor Flea Market,Resch Expo Collectorabilia Flea Market
ATTACH;FMTTYPE=image/jpeg:https://zurkopromotions.com/wp-content/uploads/2022/07/collectorabilia-show-sale.jpg
ORGANIZER;CN="Zurko Promotions":MAILTO:office@zurkopromotions.com
END:VEVENT
BEGIN:VEVENT
DTSTART;TZID=America/Chicago:20260404T080000
DTEND;TZID=America/Chicago:20260404T170000
DTSTAMP:20260424T150833
CREATED:20260107T172540Z
LAST-MODIFIED:20260108T192810Z
UID:10000475-1775289600-1775322000@zurkopromotions.com
SUMMARY:2026 Holiday Gift and Craft Shows at the Resch Expo
DESCRIPTION:Saturday April 4\, 2026 and Saturday November 28\, 2026\n\nJoin us this Holiday Season for a Gift & Craft Show and shop vendors who will bring you amazing vintage and handmade goods!\nYou May Find Carvings\, Toys\, Stained Glass\, Dried Flowers\, Dolls\, Quilts\, Macrame\, Ceramics\, Jewelry\, Junque\, Miniatures\, Candle Making\, Rosemaling\, Stitchery\, Blown Glass\, Leather Products\, Candy\, Bakery\, Wooden Toys\, Collector Items\, Doll Accessories\, Paintings\, Holiday Gifts\, Copper Art\, Decorations\, Folk Art\, Speciality Items\, Object De Art\, Host of Fine Quality Items\, 1000’s of One of a Kind items and much more! Join the fun!\n\nResch Center Expo840 Armed Forces Dr.Green Bay\, WI\n\nHours: 8am to 5pm. Tickets are also available at the event. Free Parking. Tickets: $8. Children 12 years and younger free with adult. Please call Zurko Promotions at 715-526-9769 for more information.\nGrab your craftin’ pals & make those plans today!\nNew vendors welcome! Please call 715-526-9769 for vendor information.\nhttps://www.holidaygiftandcraftshow.com/
URL:https://zurkopromotions.com/event/2026-holiday-gift-and-craft-shows-at-the-resch-expo/2026-04-04/
LOCATION:Resch Expo\, 840 Armed Forces Dr.\, Green Bay\, WI\, 54304\, United States
CATEGORIES:Green Bay Wisconsin Craft Shows
ATTACH;FMTTYPE=image/jpeg:https://zurkopromotions.com/wp-content/uploads/2022/12/resch-expo-craft-show-green-bay-wisconsin-2.jpg
ORGANIZER;CN="Zurko Promotions":MAILTO:office@zurkopromotions.com
END:VEVENT
BEGIN:VEVENT
DTSTART;TZID=America/Chicago:20251129T080000
DTEND;TZID=America/Chicago:20251129T170000
DTSTAMP:20260424T150833
CREATED:20250116T224036Z
LAST-MODIFIED:20251122T151242Z
UID:10000425-1764403200-1764435600@zurkopromotions.com
SUMMARY:Collectorabilia Con November 29\, 2025 at the Resch Expo
DESCRIPTION:Special guests: \nTony Cox: Joseph Anthony Cox is an American actor known for his roles in Bad Santa\, Friday\, Me\, Myself & Irene\, Date Movie\, Epic Movie\, Disaster Movie\, and Leprechaun 2. He is also known for his role in George Lucas’s Willow\, as an Ewok in Return of the Jedi\, and as the Preacher in Tim Burton’s Beetlejuice. \n \nTom Cook– (Artist- Scooby Do\, He-Man\, Smurfs) \nTom began his career as an animator and artistic director in 1978 at Hanna-Barbera Studios where he was hired to work as an assistant animator on Challenge of the SuperFriends\, Godzilla\, Scooby Doo\, Smurfs\, Pacman and the Flintstones. A short stop at Ruby-Spears had him working on Thundarr the Barbarian (had the privilege to meet and work with Jack Kirby)\, Heathcliff\, Fang Face and Plastic Man. Freelancing at Film Roman he worked on the Garfield Special Babes and Bullets and for Bill Melendez on the Peanuts Special This is America Charlie Brown. He then moved over to Filmation Studios in 1980\, which at this point had become the only animation studio doing animation in the United States\, and worked on Tarzan\, Flash Gordon\, Blackstar\, Fat Albert and the Cosby Kids\, Brown Hornet\, He-Man and the Masters of the Universe\, She-Ra Princess of Power\, Ghostbusters\, Lone Ranger\, Zorro\, The Kids Super Power Hour with Shazam (Captain Marvel)\, Hero High and the futuristic Western Bravestarr. He was also involved with many TV commercials such as The Jolly Green Giant\, Chevrolet\, and the 7 Up Spot campaign. He then became the timing director on Road Rovers\, Disney’s Mighty Ducks\, PB & J Otter\, Duckman\, King of the Hill\, Savage Dragon\, HBO’s Happily Ever After Fairy Tales\, Extreme Ghostbusters\, Extreme Dinosaurs and many more. He also animated on a number of motion pictures such as Walt Disney’s Prince and the Pauper starring Mickey Mouse\, Roger Rabbit in Tummy Trouble\, The Jetson’s Movie\, Rover Dangerfield\, Stay Tuned\, Pinocchio and the Emperor of the Night\, Steven Spielberg’s Were Back\, and Don Bluth’s Thumbelina. \n \nCollectorabilia Con. This is truly a one of a kind family fun event at the Resch Expo! \n\nYou may find retro games\, consoles\, toys\, action figures\, comics\, graphic novels\, art\, craft\, Lego\, bartop arcades\, modern collectables\, funko pops\, t-shirts\, wrestling merchandise\, Pokemon\, Transformers\, japanese imports\, sports memorabilia\, TV/Movie Memorabilia\, antiques and much much more!!\n\n*Guest appearances subject to change or cancellation without notice.\n\nNew Vendors Welcome\nResch Expo840 Armed Forces DriveAshwaubenon\, WI 54304\nSaturday 8am to 5pm / $7. Tickets available at the event. Kids 12 and under free with adult. Free parking.\n\nFREE PARKING – YOU MUST MENTION TO THE PARKING ATTENDANT THAT YOU ARE HERE FOR COLLECTORABILIA FOR FREE PARKING!!\n \n\nCall Zurko Promotions at 715-526-9769 for more information.\n\nhttps://collectorabiliacon.com/
URL:https://zurkopromotions.com/event/collectorabilia-con-november-29-2025-at-the-resch-expo/
LOCATION:Resch Expo\, 840 Armed Forces Dr.\, Green Bay\, WI\, 54304\, United States
CATEGORIES:Green Bay Wisconsin Indoor Flea Market,Resch Expo Collectorabilia Flea Market
ATTACH;FMTTYPE=image/jpeg:https://zurkopromotions.com/wp-content/uploads/2022/07/collectorabilia-show-sale.jpg
ORGANIZER;CN="Zurko Promotions":MAILTO:office@zurkopromotions.com
END:VEVENT
BEGIN:VEVENT
DTSTART;TZID=America/Chicago:20251129T080000
DTEND;TZID=America/Chicago:20251129T170000
DTSTAMP:20260424T150833
CREATED:20250115T201805Z
LAST-MODIFIED:20251122T151338Z
UID:10000424-1764403200-1764435600@zurkopromotions.com
SUMMARY:Holiday Gift and Craft Show at the Resch Expo 2025
DESCRIPTION:Join us this Holiday Season for a Gift & Craft Show and shop vendors who will bring you amazing vintage and handmade goods!\nYou May Find Carvings\, Xmas Toys\, Stained Glass\, Dried Flowers\, Dolls\, Quilts\, Macrame\, Ceramics\, Jewelry\, Junque\, Miniatures\, Candle Making\, Rosemaling\, Stitchery\, Blown Glass\, Leather Products\, Candy\, Bakery\, Wooden Toys\, Collector Items\, Doll Accessories\, Paintings\, Holiday Gifts\, Copper Art\, Decorations\, Folk Art\, Speciality Items\, Object De Art\, Host of Fine Quality Items\, 1000’s of One of a Kind items and much more! Join the fun!\n\n\n\nThe Holiday Gift and Craft Show Saturday November 29\, 2025 at the Resch Expo\, Green Bay welcomes special guest Tony Cox! \nJoseph Anthony Cox is an American actor known for his roles in Bad Santa\, Friday\, Me\, Myself & Irene\, Date Movie\, Epic Movie\, Disaster Movie\, and Leprechaun 2. He is also known for his role in George Lucas’s Willow\, as an Ewok in Return of the Jedi\, and as the Preacher in Tim Burton’s Beetlejuice. \nTony Cox decided to pursue acting after watching Billy Barty\, a little person who was an actor and founder of the organization Little People of America. Encouraged by relatives and friends\, he moved to Los Angeles at age 18. He began taking classes at the Merrick Studio School of Acting with Scriptwriter De De Tillman and soon began working in commercials\, film\, and television roles. He is better known for his roles in Bad Santa where he played Marcus\, the brains of a safe cracking duo\, and in Date Movie where he played a parody of Dr. Hitch from Hitch. Cox reprised his role as Marcus in Bad Santa 2\, released in 2016. \nCox also appeared on the TV show Martin in the first season\, playing the character Bennie\, in which he helps his friend Trey\, played by Bushwick Bill\, beat up Tommy played by Thomas Mikal Ford\, over Tommy allegedly “stealing” his ex-girlfriend. \nCox also appeared in a pivotal role in the Farrelly Brothers’ movie Me\, Myself & Irene\, playing a Mensa International-member limousine driver who steals Jim Carrey‘s character’s wife. \nThe ewok Tony Cox played was later named Willy in The Battle for Endor\, and Widdle in the Ewok Adventure. Willy has white (or very light) fur on the cheeks and he is the brother of Wicket W. Warrick. He was also one of the Ewoks who hijacked an AT-ST along with Chewbacca. \n\n \nResch Center Expo840 Armed Forces Dr.Green Bay\, WI\nHours: 8am to 5pm / $7. Tickets available at the event. Kids 12 and under free with adult. FREE PARKING.\n\nFREE PARKING – YOU MUST MENTION TO THE PARKING ATTENDANT THAT YOU ARE HERE FOR THE CRAFT SHOW FOR FREE PARKING!!\n \n\nPlease call Zurko Promotions at 715-526-9769 for more information.\nGrab your craftin’ pals & make those plans today!\nNew vendors welcome! Please call 715-526-9769 for vendor information.\nhttps://www.holidaygiftandcraftshow.com/
URL:https://zurkopromotions.com/event/holiday-gift-and-craft-show-at-the-resch-expo-2025/
LOCATION:Resch Expo\, 840 Armed Forces Dr.\, Green Bay\, WI\, 54304\, United States
CATEGORIES:Green Bay Wisconsin Craft Shows
ATTACH;FMTTYPE=image/jpeg:https://zurkopromotions.com/wp-content/uploads/2022/12/resch-expo-craft-show-green-bay-wisconsin-2.jpg
ORGANIZER;CN="Zurko Promotions":MAILTO:office@zurkopromotions.com
END:VEVENT
BEGIN:VEVENT
DTSTART;TZID=America/Chicago:20251018T150000
DTEND;TZID=America/Chicago:20251018T200000
DTSTAMP:20260424T150833
CREATED:20250115T201448Z
LAST-MODIFIED:20250115T201448Z
UID:10000423-1760799600-1760817600@zurkopromotions.com
SUMMARY:Witches Night Out Saturday October 18
DESCRIPTION:Saturday October 18\, 2025. 3pm to 8pm.\nCome dressed in your best costume for Witches’ Night Out (warlocks welcome too) and shop vendors who will bring you amazing handmade goods and more!\nYou won’t want to miss this SPOOKY good time! #WitchesNightOutGreenBay\nGuests Storms Eclectic Realm – Wisconsin Horror Hosts & more.\nYou May Find Carvings\, Toys\, Stained Glass\, Dried Flowers\, Dolls\, Quilts\, Macrame\, Ceramics\, Jewelry\, Junque\, Miniatures\, Candle Making\, Rosemaling\, Stitchery\, Blown Glass\, Leather Products\, Candy\, Bakery\, Wooden Toys\, Collector Items\, Doll Accessories\, Paintings\, Holiday Gifts\, Copper Art\, Decorations\, Folk Art\, Speciality Items\, Object De Art\, Host of Fine Quality Items\, 1000’s of One of a Kind items and much more! Join the fun!\nResch Expo840 Armed Forces Dr.Green Bay\, WI\nHours: 3pm to 8pm. Tickets are also available at the event. Free Parking. Tickets: $5. Children 12 years and younger free with adult. Please call Zurko Promotions at 715-526-9769 for more information.\nTickets can also be purchased online at: https://www.eventbrite.com/e/1131000526019?aff=oddtdtcreator\n\nGrab your craftin’ pals & make those plans today!\nNew vendors welcome! Please call 715-526-9769 for vendor information.\nhttps://www.holidaygiftandcraftshow.com/
URL:https://zurkopromotions.com/event/witches-night-out-saturday-october-18/
LOCATION:Resch Expo\, 840 Armed Forces Dr.\, Green Bay\, WI\, 54304\, United States
CATEGORIES:Green Bay Wisconsin Craft Shows
ATTACH;FMTTYPE=image/jpeg:https://zurkopromotions.com/wp-content/uploads/2024/01/witchesnightoutGB5.jpg
ORGANIZER;CN="Zurko Promotions":MAILTO:office@zurkopromotions.com
END:VEVENT
END:VCALENDAR