BEGIN:VCALENDAR
VERSION:2.0
PRODID:-//Zurko Promotions - ECPv6.15.20//NONSGML v1.0//EN
CALSCALE:GREGORIAN
METHOD:PUBLISH
X-WR-CALNAME:Zurko Promotions
X-ORIGINAL-URL:https://zurkopromotions.com
X-WR-CALDESC:Events for Zurko Promotions
REFRESH-INTERVAL;VALUE=DURATION:PT1H
X-Robots-Tag:noindex
X-PUBLISHED-TTL:PT1H
BEGIN:VTIMEZONE
TZID:America/Chicago
BEGIN:DAYLIGHT
TZOFFSETFROM:-0600
TZOFFSETTO:-0500
TZNAME:CDT
DTSTART:20240310T080000
END:DAYLIGHT
BEGIN:STANDARD
TZOFFSETFROM:-0500
TZOFFSETTO:-0600
TZNAME:CST
DTSTART:20241103T070000
END:STANDARD
BEGIN:DAYLIGHT
TZOFFSETFROM:-0600
TZOFFSETTO:-0500
TZNAME:CDT
DTSTART:20250309T080000
END:DAYLIGHT
BEGIN:STANDARD
TZOFFSETFROM:-0500
TZOFFSETTO:-0600
TZNAME:CST
DTSTART:20251102T070000
END:STANDARD
BEGIN:DAYLIGHT
TZOFFSETFROM:-0600
TZOFFSETTO:-0500
TZNAME:CDT
DTSTART:20260308T080000
END:DAYLIGHT
BEGIN:STANDARD
TZOFFSETFROM:-0500
TZOFFSETTO:-0600
TZNAME:CST
DTSTART:20261101T070000
END:STANDARD
END:VTIMEZONE
BEGIN:VEVENT
DTSTART;TZID=America/Chicago:20251012T090000
DTEND;TZID=America/Chicago:20251012T150000
DTSTAMP:20260424T215303
CREATED:20241223T211253Z
LAST-MODIFIED:20241223T211254Z
UID:10000381-1760259600-1760281200@zurkopromotions.com
SUMMARY:Grayslake Antique Vintage Market
DESCRIPTION:Grayslake Illinois Antique Flea Market offers a fantastic variety of antiques\, vintage\, estate jewelry\, vintage clothing\, collectibles\, comics\, tv/movie memorabilia\, mid century modern\, furniture\, vintage jewelry\, vintage decor\, vintage home\, vintage experts\, decorative arts\, vintage lighting\, decorating\, design\, country furniture\, shabby chic\, old toys\, advertising\, coins\, and more!\n\nShow Hours: Saturday 9am to 4pm and Sunday 9am to 3pm / $8 (TICKETS AVAILABLE AT THE EVENT)ADMISSION IS GOOD FOR BOTH DAYS!Free Parking. *Children 12 and under are free with an adultEarly Buyers Saturday 8am to 9am / $25\n\nLake County Fairgrounds1060 E Peterson RoadGrayslake\, IL 60030 United States\n\nNew vendors welcome! Please call Zurko Promotions at 715-526-9769 for more information.\n\nThe Lake County Fairgrounds has notified us that only “Licensed Service Dogs” are permitted on the Lake County Fairgrounds during the Grayslake Antique Flea Markets. Thank you for your cooperation.
URL:https://zurkopromotions.com/event/grayslake-antique-vintage-market/2025-10-12/
LOCATION:Lake County Fairgrounds\, 1060 E Peterson Road\, Grayslake\, IL\, 60030\, United States
CATEGORIES:Grayslake North Chicago Illinois Antique Vintage Flea Market
ATTACH;FMTTYPE=image/jpeg:https://zurkopromotions.com/wp-content/uploads/2024/12/IMG_1621-2.jpeg
ORGANIZER;CN="Zurko Promotions":MAILTO:office@zurkopromotions.com
GEO:42.3111491;-88.0202574
X-APPLE-STRUCTURED-LOCATION;VALUE=URI;X-ADDRESS=Lake County Fairgrounds 1060 E Peterson Road Grayslake IL 60030 United States;X-APPLE-RADIUS=500;X-TITLE=1060 E Peterson Road:geo:-88.0202574,42.3111491
END:VEVENT
BEGIN:VEVENT
DTSTART;TZID=America/Chicago:20251011T090000
DTEND;TZID=America/Chicago:20251011T160000
DTSTAMP:20260424T215303
CREATED:20241223T211253Z
LAST-MODIFIED:20241223T211254Z
UID:10000380-1760173200-1760198400@zurkopromotions.com
SUMMARY:Grayslake Antique Vintage Market
DESCRIPTION:Grayslake Illinois Antique Flea Market offers a fantastic variety of antiques\, vintage\, estate jewelry\, vintage clothing\, collectibles\, comics\, tv/movie memorabilia\, mid century modern\, furniture\, vintage jewelry\, vintage decor\, vintage home\, vintage experts\, decorative arts\, vintage lighting\, decorating\, design\, country furniture\, shabby chic\, old toys\, advertising\, coins\, and more!\n\nShow Hours: Saturday 9am to 4pm and Sunday 9am to 3pm / $8 (TICKETS AVAILABLE AT THE EVENT)ADMISSION IS GOOD FOR BOTH DAYS!Free Parking. *Children 12 and under are free with an adultEarly Buyers Saturday 8am to 9am / $25\n\nLake County Fairgrounds1060 E Peterson RoadGrayslake\, IL 60030 United States\n\nNew vendors welcome! Please call Zurko Promotions at 715-526-9769 for more information.\n\nThe Lake County Fairgrounds has notified us that only “Licensed Service Dogs” are permitted on the Lake County Fairgrounds during the Grayslake Antique Flea Markets. Thank you for your cooperation.
URL:https://zurkopromotions.com/event/grayslake-antique-vintage-market/2025-10-11/
LOCATION:Lake County Fairgrounds\, 1060 E Peterson Road\, Grayslake\, IL\, 60030\, United States
CATEGORIES:Grayslake North Chicago Illinois Antique Vintage Flea Market
ATTACH;FMTTYPE=image/jpeg:https://zurkopromotions.com/wp-content/uploads/2024/12/IMG_1621-2.jpeg
ORGANIZER;CN="Zurko Promotions":MAILTO:office@zurkopromotions.com
GEO:42.3111491;-88.0202574
X-APPLE-STRUCTURED-LOCATION;VALUE=URI;X-ADDRESS=Lake County Fairgrounds 1060 E Peterson Road Grayslake IL 60030 United States;X-APPLE-RADIUS=500;X-TITLE=1060 E Peterson Road:geo:-88.0202574,42.3111491
END:VEVENT
END:VCALENDAR