BEGIN:VCALENDAR
VERSION:2.0
PRODID:-//Zurko Promotions - ECPv6.15.20//NONSGML v1.0//EN
CALSCALE:GREGORIAN
METHOD:PUBLISH
X-WR-CALNAME:Zurko Promotions
X-ORIGINAL-URL:https://zurkopromotions.com
X-WR-CALDESC:Events for Zurko Promotions
REFRESH-INTERVAL;VALUE=DURATION:PT1H
X-Robots-Tag:noindex
X-PUBLISHED-TTL:PT1H
BEGIN:VTIMEZONE
TZID:America/Chicago
BEGIN:DAYLIGHT
TZOFFSETFROM:-0600
TZOFFSETTO:-0500
TZNAME:CDT
DTSTART:20250309T080000
END:DAYLIGHT
BEGIN:STANDARD
TZOFFSETFROM:-0500
TZOFFSETTO:-0600
TZNAME:CST
DTSTART:20251102T070000
END:STANDARD
BEGIN:DAYLIGHT
TZOFFSETFROM:-0600
TZOFFSETTO:-0500
TZNAME:CDT
DTSTART:20260308T080000
END:DAYLIGHT
BEGIN:STANDARD
TZOFFSETFROM:-0500
TZOFFSETTO:-0600
TZNAME:CST
DTSTART:20261101T070000
END:STANDARD
BEGIN:DAYLIGHT
TZOFFSETFROM:-0600
TZOFFSETTO:-0500
TZNAME:CDT
DTSTART:20270314T080000
END:DAYLIGHT
BEGIN:STANDARD
TZOFFSETFROM:-0500
TZOFFSETTO:-0600
TZNAME:CST
DTSTART:20271107T070000
END:STANDARD
END:VTIMEZONE
BEGIN:VEVENT
DTSTART;TZID=America/Chicago:20260517T070000
DTEND;TZID=America/Chicago:20260517T150000
DTSTAMP:20260424T200722
CREATED:20260127T160931Z
LAST-MODIFIED:20260414T182852Z
UID:10000499-1779001200-1779030000@zurkopromotions.com
SUMMARY:2026 Shawano Wisconsin Flea Market Season
DESCRIPTION:56th YEAR!!! Every Sunday April 19 thru October 18\, 2026. NO FLEA MARKET SUNDAY AUGUST 30.  The Shawano Flea Market moves to the Faigrounds in Eagle River\, WI ON LABORDAY WEEKEND\n\nSpecial Shawano Holiday Markets:Saturday May 23 & Sunday May 24+ Saturday July 4 and Sunday July 5\n\nShawano Flea Market car show Sunday October 18\, 2026!\n\nAntiques\, Collectibles\, Crafts\, Vintage\, Mid Century Modern\, Gardening\, New & Old\, Advertising\, Old Toys\, & More\n7am to 3pm / $2 admission. Kids 12 and under free with adult.Early buyer admission before 7am: $10\nTickets available at the event. Free parking\nOpen-Air Market. Weather permitting.New vendors welcome! Call for 715-526-9769 for info.\n\nShawano County Fairgrounds990 E Green Bay St\, Shawano\, WI 54166
URL:https://zurkopromotions.com/event/2026-shawano-wisconsin-flea-market-season/2026-05-17/
LOCATION:WI
CATEGORIES:Shawano Outdoor Flea Markets
ATTACH;FMTTYPE=image/jpeg:https://zurkopromotions.com/wp-content/uploads/2016/05/shawano-wisconsin-flea-market-02.jpg
ORGANIZER;CN="Zurko Promotions":MAILTO:office@zurkopromotions.com
END:VEVENT
BEGIN:VEVENT
DTSTART;TZID=America/Chicago:20260522T090000
DTEND;TZID=America/Chicago:20260522T160000
DTSTAMP:20260424T200722
CREATED:20260108T212916Z
LAST-MODIFIED:20260108T212916Z
UID:10000481-1779440400-1779465600@zurkopromotions.com
SUMMARY:Downtown Antigo Craft & Flea Market Festival
DESCRIPTION:The Antigo Flea Market has moved from the Langlade County Fairgrounds to downtown Antigo! 9am to 4pm – Free admission!\n\nAntiques\, Flea Market Items\, Crafts\, Gifts\, Collectibles\, And More!\n\n2026 Antigo Flea Market dates:Friday May 22Friday July 3Friday September 4\n\nNew location: Downtown Antigo\, WI\nVendor information:BECOMING A VENDOR REQUIRES NO EXPERIENCE! VENDOR SPACES ARE SPACIOUS AND AFFORDABLE! OUR SINGLE SPACE RATE IS 45.00 (ONE VEHICLE/TRAILER PER SPACE ONLY)\,\nIF YOU HAVE SOMETHING TO SELL OR ARE INTERESTED IN BECOMING A VENDOR PLEASE FEEL FREE TO CONTACT US AT 715-526-9769\,\n***PLEASE NOTE: THE SALE OF ANIMALS\, GUNS\, AMMUNITION\, PORNOGRAPHY\, Bows/Arrows\, Knives\, CBD PRODUCTS\, DRUG PARAPHERNALIA\, IS NOT ALLOWED – please call for additional vendor information.For more information\, please call Zurko Promotions at 715-526-9769 for visit our website at: https://zurkopromotions.com/antigo-wisconsin-flea-market/
URL:https://zurkopromotions.com/event/downtown-antigo-craft-flea-market-festival/2026-05-22/
LOCATION:Downtown Antigo Wisconsin\, 5th avenue\, antigo\, WI\, 54409\, United States
CATEGORIES:Antigo, Wisconsin Flea Markets
ATTACH;FMTTYPE=image/jpeg:https://zurkopromotions.com/wp-content/uploads/2020/07/antigo-wisconsin-flea-market-b.jpg
ORGANIZER;CN="Zurko Promotions":MAILTO:office@zurkopromotions.com
END:VEVENT
BEGIN:VEVENT
DTSTART;TZID=America/Chicago:20260523T070000
DTEND;TZID=America/Chicago:20260523T150000
DTSTAMP:20260424T200722
CREATED:20260127T160931Z
LAST-MODIFIED:20260414T182852Z
UID:10000500-1779519600-1779548400@zurkopromotions.com
SUMMARY:2026 Shawano Wisconsin Flea Market Season
DESCRIPTION:56th YEAR!!! Every Sunday April 19 thru October 18\, 2026. NO FLEA MARKET SUNDAY AUGUST 30.  The Shawano Flea Market moves to the Faigrounds in Eagle River\, WI ON LABORDAY WEEKEND\n\nSpecial Shawano Holiday Markets:Saturday May 23 & Sunday May 24+ Saturday July 4 and Sunday July 5\n\nShawano Flea Market car show Sunday October 18\, 2026!\n\nAntiques\, Collectibles\, Crafts\, Vintage\, Mid Century Modern\, Gardening\, New & Old\, Advertising\, Old Toys\, & More\n7am to 3pm / $2 admission. Kids 12 and under free with adult.Early buyer admission before 7am: $10\nTickets available at the event. Free parking\nOpen-Air Market. Weather permitting.New vendors welcome! Call for 715-526-9769 for info.\n\nShawano County Fairgrounds990 E Green Bay St\, Shawano\, WI 54166
URL:https://zurkopromotions.com/event/2026-shawano-wisconsin-flea-market-season/2026-05-23/
LOCATION:WI
CATEGORIES:Shawano Outdoor Flea Markets
ATTACH;FMTTYPE=image/jpeg:https://zurkopromotions.com/wp-content/uploads/2016/05/shawano-wisconsin-flea-market-02.jpg
ORGANIZER;CN="Zurko Promotions":MAILTO:office@zurkopromotions.com
END:VEVENT
END:VCALENDAR