BEGIN:VCALENDAR
VERSION:2.0
PRODID:-//Zurko Promotions - ECPv6.15.20//NONSGML v1.0//EN
CALSCALE:GREGORIAN
METHOD:PUBLISH
X-ORIGINAL-URL:https://zurkopromotions.com
X-WR-CALDESC:Events for Zurko Promotions
REFRESH-INTERVAL;VALUE=DURATION:PT1H
X-Robots-Tag:noindex
X-PUBLISHED-TTL:PT1H
BEGIN:VTIMEZONE
TZID:America/Chicago
BEGIN:DAYLIGHT
TZOFFSETFROM:-0600
TZOFFSETTO:-0500
TZNAME:CDT
DTSTART:20250309T080000
END:DAYLIGHT
BEGIN:STANDARD
TZOFFSETFROM:-0500
TZOFFSETTO:-0600
TZNAME:CST
DTSTART:20251102T070000
END:STANDARD
BEGIN:DAYLIGHT
TZOFFSETFROM:-0600
TZOFFSETTO:-0500
TZNAME:CDT
DTSTART:20260308T080000
END:DAYLIGHT
BEGIN:STANDARD
TZOFFSETFROM:-0500
TZOFFSETTO:-0600
TZNAME:CST
DTSTART:20261101T070000
END:STANDARD
BEGIN:DAYLIGHT
TZOFFSETFROM:-0600
TZOFFSETTO:-0500
TZNAME:CDT
DTSTART:20270314T080000
END:DAYLIGHT
BEGIN:STANDARD
TZOFFSETFROM:-0500
TZOFFSETTO:-0600
TZNAME:CST
DTSTART:20271107T070000
END:STANDARD
END:VTIMEZONE
BEGIN:VEVENT
DTSTART;TZID=America/Chicago:20260328T090000
DTEND;TZID=America/Chicago:20260328T150000
DTSTAMP:20260424T214022
CREATED:20251001T203041Z
LAST-MODIFIED:20251001T203041Z
UID:10000458-1774688400-1774710000@zurkopromotions.com
SUMMARY:2026 Shawano Wisconsin Indoor Flea Markets
DESCRIPTION:Every Saturday January 3 thru March 28\, 2026 \nShawano Community Hall – Historical Building\n***FREE INDOOR FLEA MARKET\nADMISSION TO THE PUBLIC***FREE PARKING*** \nAntiques\, Flea Market Items\, Crafts\, Coins\, Collectibles\, And More!\n9am to 3pm \nShawano Community Hall\nDowntown Shawano\n115 E. Division St.\nShawano\, WI 54166 \n30 northwest of Green Bay\, WI\noff of hwy 29 (hwy 22 exit – downtown Shawano) \nCall 715-526-9769 or visit https://zurkopromotions.com/shawano-wisconsin-indoor-flea-market/ for more information
URL:https://zurkopromotions.com/event/2026-shawano-wisconsin-indoor-flea-markets/2026-03-28/
LOCATION:Shawano Community Hall\, 115 E Division Street\, Shawano\, WI\, 54166\, United States
CATEGORIES:Shawano Indoor Flea Markets
ATTACH;FMTTYPE=image/jpeg:https://zurkopromotions.com/wp-content/uploads/2016/06/IMG_0022.jpg
ORGANIZER;CN="Zurko Promotions":MAILTO:office@zurkopromotions.com
GEO:44.7804426;-88.6085263
X-APPLE-STRUCTURED-LOCATION;VALUE=URI;X-ADDRESS=Shawano Community Hall 115 E Division Street Shawano WI 54166 United States;X-APPLE-RADIUS=500;X-TITLE=115 E Division Street:geo:-88.6085263,44.7804426
END:VEVENT
END:VCALENDAR