BEGIN:VCALENDAR
VERSION:2.0
PRODID:-//Zurko Promotions - ECPv6.15.20//NONSGML v1.0//EN
CALSCALE:GREGORIAN
METHOD:PUBLISH
X-ORIGINAL-URL:https://zurkopromotions.com
X-WR-CALDESC:Events for Zurko Promotions
REFRESH-INTERVAL;VALUE=DURATION:PT1H
X-Robots-Tag:noindex
X-PUBLISHED-TTL:PT1H
BEGIN:VTIMEZONE
TZID:America/Chicago
BEGIN:DAYLIGHT
TZOFFSETFROM:-0600
TZOFFSETTO:-0500
TZNAME:CDT
DTSTART:20250309T080000
END:DAYLIGHT
BEGIN:STANDARD
TZOFFSETFROM:-0500
TZOFFSETTO:-0600
TZNAME:CST
DTSTART:20251102T070000
END:STANDARD
BEGIN:DAYLIGHT
TZOFFSETFROM:-0600
TZOFFSETTO:-0500
TZNAME:CDT
DTSTART:20260308T080000
END:DAYLIGHT
BEGIN:STANDARD
TZOFFSETFROM:-0500
TZOFFSETTO:-0600
TZNAME:CST
DTSTART:20261101T070000
END:STANDARD
BEGIN:DAYLIGHT
TZOFFSETFROM:-0600
TZOFFSETTO:-0500
TZNAME:CDT
DTSTART:20270314T080000
END:DAYLIGHT
BEGIN:STANDARD
TZOFFSETFROM:-0500
TZOFFSETTO:-0600
TZNAME:CST
DTSTART:20271107T070000
END:STANDARD
END:VTIMEZONE
BEGIN:VEVENT
DTSTART;TZID=America/Chicago:20260404T080000
DTEND;TZID=America/Chicago:20260404T170000
DTSTAMP:20260424T230737
CREATED:20260114T203837Z
LAST-MODIFIED:20260401T212554Z
UID:10000479-1775289600-1775322000@zurkopromotions.com
SUMMARY:2026 Collectorabilia Con at the Resch Expo
DESCRIPTION:Collectorabilia Con Saturday April 4\, 2026 & November 28\, 2026.\n\nThis is truly a one of a kind family fun event at the Resch Expo!\n\nYou may find retro games\, consoles\, toys\, action figures\, comics\, graphic novels\, art\, craft\, Lego\, bartop arcades\, modern collectables\, funko pops\, t-shirts\, wrestling merchandise\, Pokemon\, Transformers\, japanese imports\, sports memorabilia\, TV/Movie Memorabilia\, antiques and much much more!!\n\nSponsored By:\n\n\n\n\n\nAmerican Antiques and Jewelry\n2545 W. Mason St\nGreen Bay\, WI 54303\nwww.aaandj.com\nStore: 920-498-0111\n\n\n\n\n\n\n\n\n\n\nCollectorabilia Saturday April 4\, 2026 welcomes Charles “The Godfather” Wright!\nCharles Wright\, better known under his ring name The Godfather\, is an American retired professional wrestler. He is best known for his tenure with the World Wrestling Federation throughout the 1990s and early 2000s\, and underwent several gimmick changes; the most notable were Papa Shango\, Kama\, Kama Mustafa\, The Godfather and The Goodfather. \nAmong other accolades\, Wright is a two-time USWA Unified World Heavyweight Champion\, a one-time WWF Intercontinental Champion\, and a one-time WWF World Tag Team Champion (with Bull Buchanan). He headlined Saturday Night’s Main Event XXXI against Bret Hart for the WWF Championship. Wright was inducted into the WWE Hall of Fame on April 2\, 2016\, under the Godfather gimmick. \n\n\n\nCollectorabilia Con Saturday April 4\, 2026 welcomes artist Sam de la Rosa!\n \n      \nSince 1982\, Sam de la Rosa has penciled art/finished art/inked art for Marvel\, DC\, Image\, Disney\, and Dark Horse. His credits include Spider-Man\, Venom\, Carnage\, Black Panther\, The Avengers\, Star Wars\, X-Men and more. At DC Comics he worked on Superman\, Batman\, Green Lantern\, Star Trek\, Firestorm and others. In 1989 he worked on the 1st and 2nd Predator comic books for Dark Horse Comics. Sam’s work on VENOM LETHAL PROTECTOR #1-6 is the main basis for the VENOM MOVIE. The VENOM: Let There Be CARNAGE movie is based on MAXIMUM CARNAGE\, another popular storyline Sam worked on. His Venom Lethal Protector #1 cover has been produced as a Funko PoP! \n \n\n\nCollectorabilia Saturday April 4\, 2026 welcomes Matt Hissem and his DeLorean Time Machine! \nThis is a close home built representation of the DeLorean time machine from the movie Back to the Future part 2. I bought this stock DeLorean from Michigan in 2013 and needed a full frame-off restoration which took 7months. By the spring of 2015 I had completed the time machine conversion with the help of a co-worker that was on the team of guys who restored the original DeLorean time machine from the movie. All the parts on the car represent the parts on the movie car and are to the same scale but are not identical. The whole time machine build is done in a way that is non destructive to the car. No holes were drilled into the car to mount the time machine hardware\, so it can be brought back to stock condition. I had the opportunity in February of 2016 at the Riverside Theater in Milwaukee to meet Christopher Lloyd who played “Doc” in the movie where he signed the passenger sun visor. Over the past few years\, I have been able to update some of the time machine hardware parts to a more movie accurate state. This is daily driver in the summer and gets around all over the state for many car shows and events. \n\n\nNew Vendors Welcome\n\nResch Expo840 Armed Forces DriveAshwaubenon\, WI 54304\n\nSaturday 8am to 5pm / $8. Tickets available at the event. Kids 12 and under free with adult. Free parking.\nCall Zurko Promotions at 715-526-9769 for more information.\n\nhttps://collectorabiliacon.com/\n\n\nDue to circumstances beyond our control\, Brian Knobb’s appearance at Collectorabilia Saturday April 4\, 2026 has been canceled.
URL:https://zurkopromotions.com/event/2026-collectorabilia-con-at-the-resch-expo-2/
LOCATION:Resch Expo\, 840 Armed Forces Dr.\, Green Bay\, WI\, 54304\, United States
CATEGORIES:Collectorabilia Flea Market,Comic Book and Toy Show,Green Bay Wisconsin Indoor Flea Market,Resch Expo Collectorabilia Flea Market
ATTACH;FMTTYPE=image/jpeg:https://zurkopromotions.com/wp-content/uploads/2022/07/collectorabilia-show-sale.jpg
ORGANIZER;CN="Zurko Promotions":MAILTO:office@zurkopromotions.com
END:VEVENT
END:VCALENDAR