BEGIN:VCALENDAR
VERSION:2.0
PRODID:-//Zurko Promotions - ECPv6.15.20//NONSGML v1.0//EN
CALSCALE:GREGORIAN
METHOD:PUBLISH
X-WR-CALNAME:Zurko Promotions
X-ORIGINAL-URL:https://zurkopromotions.com
X-WR-CALDESC:Events for Zurko Promotions
REFRESH-INTERVAL;VALUE=DURATION:PT1H
X-Robots-Tag:noindex
X-PUBLISHED-TTL:PT1H
BEGIN:VTIMEZONE
TZID:America/Chicago
BEGIN:DAYLIGHT
TZOFFSETFROM:-0600
TZOFFSETTO:-0500
TZNAME:CDT
DTSTART:20250309T080000
END:DAYLIGHT
BEGIN:STANDARD
TZOFFSETFROM:-0500
TZOFFSETTO:-0600
TZNAME:CST
DTSTART:20251102T070000
END:STANDARD
BEGIN:DAYLIGHT
TZOFFSETFROM:-0600
TZOFFSETTO:-0500
TZNAME:CDT
DTSTART:20260308T080000
END:DAYLIGHT
BEGIN:STANDARD
TZOFFSETFROM:-0500
TZOFFSETTO:-0600
TZNAME:CST
DTSTART:20261101T070000
END:STANDARD
BEGIN:DAYLIGHT
TZOFFSETFROM:-0600
TZOFFSETTO:-0500
TZNAME:CDT
DTSTART:20270314T080000
END:DAYLIGHT
BEGIN:STANDARD
TZOFFSETFROM:-0500
TZOFFSETTO:-0600
TZNAME:CST
DTSTART:20271107T070000
END:STANDARD
END:VTIMEZONE
BEGIN:VEVENT
DTSTART;TZID=America/Chicago:20260606T070000
DTEND;TZID=America/Chicago:20260606T150000
DTSTAMP:20260424T183958
CREATED:20260113T172957Z
LAST-MODIFIED:20260113T172957Z
UID:10000486-1780729200-1780758000@zurkopromotions.com
SUMMARY:2026 Merrill Wisconsin Flea Markets
DESCRIPTION:Open Air Flea Market!\n\nYou may find items such as antiques\, collectibles\, crafts\, vintage\, produce\, gardening\, new & old\, advertising\, furniture\, & More!\n\n2026 Saturday dates: June 6 & July 11\n\nAdmission: $2. Tickets available at the gate. Free parking7am to 3pm.Sorry\, no pets allowed.\n\nHeld at the Merrill Fairgrounds\, formerly known as Lincoln County Fairgrounds\, is located 2001 E 2nd St. in Merrill\, WI.\n\nNew Vendors Welcome!\n\nZurko PromotionsInformation: 715-526-9769\nhttps://zurkopromotions.com/merrill-wisconsin-flea-market/
URL:https://zurkopromotions.com/event/2026-merrill-wisconsin-flea-markets/2026-06-06/
LOCATION:Merrill Fairgrounds\, formerly known as Lincoln County Fairgrounds\, 2001 E 2nd St.\, Merrill\, WI\, 54452\, United States
CATEGORIES:Merrill Wisconsin Flea Market
ATTACH;FMTTYPE=image/jpeg:https://zurkopromotions.com/wp-content/uploads/2026/01/IMG_6170.jpeg
ORGANIZER;CN="Zurko Promotions":MAILTO:office@zurkopromotions.com
END:VEVENT
BEGIN:VEVENT
DTSTART;TZID=America/Chicago:20260607T070000
DTEND;TZID=America/Chicago:20260607T150000
DTSTAMP:20260424T183958
CREATED:20260127T160931Z
LAST-MODIFIED:20260414T182852Z
UID:10000503-1780815600-1780844400@zurkopromotions.com
SUMMARY:2026 Shawano Wisconsin Flea Market Season
DESCRIPTION:56th YEAR!!! Every Sunday April 19 thru October 18\, 2026. NO FLEA MARKET SUNDAY AUGUST 30.  The Shawano Flea Market moves to the Faigrounds in Eagle River\, WI ON LABORDAY WEEKEND\n\nSpecial Shawano Holiday Markets:Saturday May 23 & Sunday May 24+ Saturday July 4 and Sunday July 5\n\nShawano Flea Market car show Sunday October 18\, 2026!\n\nAntiques\, Collectibles\, Crafts\, Vintage\, Mid Century Modern\, Gardening\, New & Old\, Advertising\, Old Toys\, & More\n7am to 3pm / $2 admission. Kids 12 and under free with adult.Early buyer admission before 7am: $10\nTickets available at the event. Free parking\nOpen-Air Market. Weather permitting.New vendors welcome! Call for 715-526-9769 for info.\n\nShawano County Fairgrounds990 E Green Bay St\, Shawano\, WI 54166
URL:https://zurkopromotions.com/event/2026-shawano-wisconsin-flea-market-season/2026-06-07/
LOCATION:WI
CATEGORIES:Shawano Outdoor Flea Markets
ATTACH;FMTTYPE=image/jpeg:https://zurkopromotions.com/wp-content/uploads/2016/05/shawano-wisconsin-flea-market-02.jpg
ORGANIZER;CN="Zurko Promotions":MAILTO:office@zurkopromotions.com
END:VEVENT
BEGIN:VEVENT
DTSTART;TZID=America/Chicago:20260614T070000
DTEND;TZID=America/Chicago:20260614T150000
DTSTAMP:20260424T183959
CREATED:20260127T160931Z
LAST-MODIFIED:20260414T182852Z
UID:10000504-1781420400-1781449200@zurkopromotions.com
SUMMARY:2026 Shawano Wisconsin Flea Market Season
DESCRIPTION:56th YEAR!!! Every Sunday April 19 thru October 18\, 2026. NO FLEA MARKET SUNDAY AUGUST 30.  The Shawano Flea Market moves to the Faigrounds in Eagle River\, WI ON LABORDAY WEEKEND\n\nSpecial Shawano Holiday Markets:Saturday May 23 & Sunday May 24+ Saturday July 4 and Sunday July 5\n\nShawano Flea Market car show Sunday October 18\, 2026!\n\nAntiques\, Collectibles\, Crafts\, Vintage\, Mid Century Modern\, Gardening\, New & Old\, Advertising\, Old Toys\, & More\n7am to 3pm / $2 admission. Kids 12 and under free with adult.Early buyer admission before 7am: $10\nTickets available at the event. Free parking\nOpen-Air Market. Weather permitting.New vendors welcome! Call for 715-526-9769 for info.\n\nShawano County Fairgrounds990 E Green Bay St\, Shawano\, WI 54166
URL:https://zurkopromotions.com/event/2026-shawano-wisconsin-flea-market-season/2026-06-14/
LOCATION:WI
CATEGORIES:Shawano Outdoor Flea Markets
ATTACH;FMTTYPE=image/jpeg:https://zurkopromotions.com/wp-content/uploads/2016/05/shawano-wisconsin-flea-market-02.jpg
ORGANIZER;CN="Zurko Promotions":MAILTO:office@zurkopromotions.com
END:VEVENT
BEGIN:VEVENT
DTSTART;TZID=America/Chicago:20260620T150000
DTEND;TZID=America/Chicago:20260620T235900
DTSTAMP:20260424T183959
CREATED:20260122T165819Z
LAST-MODIFIED:20260122T165821Z
UID:10000493-1781967600-1781999940@zurkopromotions.com
SUMMARY:2026 Belvidere Illinois Late Night Flea Market
DESCRIPTION:Belvidere “MID-NIGHT” Flea Market June 20\, 2026. 3pm to Midnight\nBoone County Fairgrounds!\n\nBELVLIDERE\, ILLINOIS. It’s MOON-LITE Madness\, on Saturday June 20\, 2026 from 3PM TO MIDNIGHT AT THE Boone County Fairgrounds located at 8791\, IL. Rt. 76 in Belvidere\, Illinois\n\nFlea Market – Antiques\, Collectibles\, Furniture\, Estate Jewelry and more! Late night flea market fun!\n“No need for Sun-Tan lotion at this market\,” state Bob Zurko of Zurko’s Midwest Promotions\, promoter of the special event. It’s a night of “Flea & Fun”!\n\nIt’s treasure-hunting at its finest\, as dealers gather their “FLEAS & STUFF including Antiques\, Crafts\, County Furniture\, Old Comics\, Toys\, MEMORABILIA of all sorts and lots of Collectibles. The “NITE” market affords a great opportunity for folks who generally cannot attend a Flea Market during the day. Great food & snacks will be available. Dealers will be indoors\, in tents and open-air\, as the market goes rain or “MOON SHINE”! As always\, the fun is in the hunt. Bring ‘FLASHLIGHTS”!\n\nOffered for sale will be 1000’s of treasures\, bargains\, antiques\, collectibles and fleas! The market will be held rain or shine (MOONSHINE) with dealers in buildings\, stalls\, tents\, and open-air.\n\n3pm to Midnight/ $7. Kids 12 and under free with adult. Free parking. Tickets only available at the event.
URL:https://zurkopromotions.com/event/2026-belvidere-illinois-late-night-flea-market/
LOCATION:Boone County Fairgrounds\, 8791 IL Route 76\, Belvidere\, IL\, 61008\, United States
CATEGORIES:Belvidere Illinois Late Night Flea Market
ATTACH;FMTTYPE=image/jpeg:https://zurkopromotions.com/wp-content/uploads/2018/05/belvidere-illinois-late-night-flea-market-0514.jpg
ORGANIZER;CN="Zurko Promotions":MAILTO:office@zurkopromotions.com
GEO:42.2809477;-88.8514841
X-APPLE-STRUCTURED-LOCATION;VALUE=URI;X-ADDRESS=Boone County Fairgrounds 8791 IL Route 76 Belvidere IL 61008 United States;X-APPLE-RADIUS=500;X-TITLE=8791 IL Route 76:geo:-88.8514841,42.2809477
END:VEVENT
BEGIN:VEVENT
DTSTART;TZID=America/Chicago:20260621T070000
DTEND;TZID=America/Chicago:20260621T150000
DTSTAMP:20260424T183959
CREATED:20260127T160931Z
LAST-MODIFIED:20260414T182852Z
UID:10000505-1782025200-1782054000@zurkopromotions.com
SUMMARY:2026 Shawano Wisconsin Flea Market Season
DESCRIPTION:56th YEAR!!! Every Sunday April 19 thru October 18\, 2026. NO FLEA MARKET SUNDAY AUGUST 30.  The Shawano Flea Market moves to the Faigrounds in Eagle River\, WI ON LABORDAY WEEKEND\n\nSpecial Shawano Holiday Markets:Saturday May 23 & Sunday May 24+ Saturday July 4 and Sunday July 5\n\nShawano Flea Market car show Sunday October 18\, 2026!\n\nAntiques\, Collectibles\, Crafts\, Vintage\, Mid Century Modern\, Gardening\, New & Old\, Advertising\, Old Toys\, & More\n7am to 3pm / $2 admission. Kids 12 and under free with adult.Early buyer admission before 7am: $10\nTickets available at the event. Free parking\nOpen-Air Market. Weather permitting.New vendors welcome! Call for 715-526-9769 for info.\n\nShawano County Fairgrounds990 E Green Bay St\, Shawano\, WI 54166
URL:https://zurkopromotions.com/event/2026-shawano-wisconsin-flea-market-season/2026-06-21/
LOCATION:WI
CATEGORIES:Shawano Outdoor Flea Markets
ATTACH;FMTTYPE=image/jpeg:https://zurkopromotions.com/wp-content/uploads/2016/05/shawano-wisconsin-flea-market-02.jpg
ORGANIZER;CN="Zurko Promotions":MAILTO:office@zurkopromotions.com
END:VEVENT
BEGIN:VEVENT
DTSTART;TZID=America/Chicago:20260627T070000
DTEND;TZID=America/Chicago:20260627T150000
DTSTAMP:20260424T183959
CREATED:20251222T224912Z
LAST-MODIFIED:20251222T224912Z
UID:10000472-1782543600-1782572400@zurkopromotions.com
SUMMARY:2026 Union Grove Wisconsin Flea Markets
DESCRIPTION:Open Air Flea Market\nYou may find items such as antiques\, collectibles\, crafts\, vintage\, produce\, gardening\, new & old\, advertising\, furniture\, & More!\n\n2026 Saturday dates: May 2\, June 27\, August 22\, and September 12\n\nUnion Grove Flea Market Car Cruise Saturday September 12\n\nAdmission: $2. Tickets available at the gate. Free parking7am to 3pm.Sorry\, no pets allowed.\n\nRacine County Fairgrounds19805 Durand Ave\, Union Grove\, WI 53182\nZurko PromotionsInformation: 715-526-9769
URL:https://zurkopromotions.com/event/2026-union-grove-wisconsin-flea-markets/2026-06-27/
LOCATION:Racine County Fairgrounds\, 19805 Durand Ave.\, Union Grove\, WI\, 53182\, United States
CATEGORIES:Racine County Wisconsin Flea Market
ATTACH;FMTTYPE=image/jpeg:https://zurkopromotions.com/wp-content/uploads/2022/04/union-grove-wisconsin-flea-market-2-1000x675-1.jpeg
ORGANIZER;CN="Zurko Promotions":MAILTO:office@zurkopromotions.com
END:VEVENT
BEGIN:VEVENT
DTSTART;TZID=America/Chicago:20260628T070000
DTEND;TZID=America/Chicago:20260628T150000
DTSTAMP:20260424T183959
CREATED:20260127T160931Z
LAST-MODIFIED:20260414T182852Z
UID:10000506-1782630000-1782658800@zurkopromotions.com
SUMMARY:2026 Shawano Wisconsin Flea Market Season
DESCRIPTION:56th YEAR!!! Every Sunday April 19 thru October 18\, 2026. NO FLEA MARKET SUNDAY AUGUST 30.  The Shawano Flea Market moves to the Faigrounds in Eagle River\, WI ON LABORDAY WEEKEND\n\nSpecial Shawano Holiday Markets:Saturday May 23 & Sunday May 24+ Saturday July 4 and Sunday July 5\n\nShawano Flea Market car show Sunday October 18\, 2026!\n\nAntiques\, Collectibles\, Crafts\, Vintage\, Mid Century Modern\, Gardening\, New & Old\, Advertising\, Old Toys\, & More\n7am to 3pm / $2 admission. Kids 12 and under free with adult.Early buyer admission before 7am: $10\nTickets available at the event. Free parking\nOpen-Air Market. Weather permitting.New vendors welcome! Call for 715-526-9769 for info.\n\nShawano County Fairgrounds990 E Green Bay St\, Shawano\, WI 54166
URL:https://zurkopromotions.com/event/2026-shawano-wisconsin-flea-market-season/2026-06-28/
LOCATION:WI
CATEGORIES:Shawano Outdoor Flea Markets
ATTACH;FMTTYPE=image/jpeg:https://zurkopromotions.com/wp-content/uploads/2016/05/shawano-wisconsin-flea-market-02.jpg
ORGANIZER;CN="Zurko Promotions":MAILTO:office@zurkopromotions.com
END:VEVENT
END:VCALENDAR