BEGIN:VCALENDAR
VERSION:2.0
PRODID:-//Zurko Promotions - ECPv6.15.20//NONSGML v1.0//EN
CALSCALE:GREGORIAN
METHOD:PUBLISH
X-WR-CALNAME:Zurko Promotions
X-ORIGINAL-URL:https://zurkopromotions.com
X-WR-CALDESC:Events for Zurko Promotions
REFRESH-INTERVAL;VALUE=DURATION:PT1H
X-Robots-Tag:noindex
X-PUBLISHED-TTL:PT1H
BEGIN:VTIMEZONE
TZID:America/Chicago
BEGIN:DAYLIGHT
TZOFFSETFROM:-0600
TZOFFSETTO:-0500
TZNAME:CDT
DTSTART:20250309T080000
END:DAYLIGHT
BEGIN:STANDARD
TZOFFSETFROM:-0500
TZOFFSETTO:-0600
TZNAME:CST
DTSTART:20251102T070000
END:STANDARD
BEGIN:DAYLIGHT
TZOFFSETFROM:-0600
TZOFFSETTO:-0500
TZNAME:CDT
DTSTART:20260308T080000
END:DAYLIGHT
BEGIN:STANDARD
TZOFFSETFROM:-0500
TZOFFSETTO:-0600
TZNAME:CST
DTSTART:20261101T070000
END:STANDARD
BEGIN:DAYLIGHT
TZOFFSETFROM:-0600
TZOFFSETTO:-0500
TZNAME:CDT
DTSTART:20270314T080000
END:DAYLIGHT
BEGIN:STANDARD
TZOFFSETFROM:-0500
TZOFFSETTO:-0600
TZNAME:CST
DTSTART:20271107T070000
END:STANDARD
END:VTIMEZONE
BEGIN:VEVENT
DTSTART;TZID=America/Chicago:20260906T070000
DTEND;TZID=America/Chicago:20260906T160000
DTSTAMP:20260424T224748
CREATED:20260110T134913Z
LAST-MODIFIED:20260327T194304Z
UID:10000485-1788678000-1788710400@zurkopromotions.com
SUMMARY:2026 Eagle River Wisconsin Flea Markets
DESCRIPTION:Labor Day Weekend!September 5 & 6\, 2026\nSaturday & Sunday: 7am to 4pm. Admission $2. Kids 12 and under free with adult. Free parking.Where “One Man’s Trash is Another Man’s Treasure…”\n\nFor pennywise shoppers\, perhaps nothing comes closer to paradise on earth than a flea market stocked with the secondhand wares you always wanted or never knew you needed. Buy\, sell\, and trade in this open-air flea market bargain hunters’ paradise!\nHeld at the Vilas County Fairgrounds\, 164 Forest St\, Eagle River\, WI 54521\nNew vendors welcome! No vendor reservations needed! We won’t turn vendors away! We let vendors in at daybreak.\n\nVendor Information:Your vendor permit for the weekend is $90 or $45 for Sunday Only. Vendors will need to pay at the gate before setting up. Spaces are approximately 20 feet of selling frontage and one vehicle/vendor is allowed in your space. You may purchase additional vendor space if needed. We let vendors in at daybreak.\nPlease call Zurko Promotions at 715-526-9769 for more information
URL:https://zurkopromotions.com/event/2026-eagle-river-wisconsin-flea-markets/2026-09-06/
LOCATION:Vilas County Fairgrounds\, 164 Forrest Street\, Eagle River\, WI\, 54521\, United States
CATEGORIES:Eagle River Vintage & Antique Markets,Eagle River Wisconsin Flea Market
ATTACH;FMTTYPE=image/jpeg:https://zurkopromotions.com/wp-content/uploads/2026/01/IMG_6815.jpeg
ORGANIZER;CN="Zurko Promotions":MAILTO:office@zurkopromotions.com
END:VEVENT
END:VCALENDAR